BEGIN:VCALENDAR
PRODID:-//sitepark/sitekit//3.0/EN
VERSION:2.0
CALSCALE:GREGORIAN
BEGIN:VEVENT
UID:170577/2026-04-22
DTSTAMP:20260421T123516Z
SUMMARY:I'm new at the university - what now?
DESCRIPTION:
URL:https://www.fh-dortmund.de/termine/ich-bin-neu-an-der-hochschule-und-nu
 n-sose26.php?sp:startDateKey=2026-04-22
DTSTART;TZID=Europe/Berlin:20260422T140000
DTEND;TZID=Europe/Berlin:20260422T150000
LOCATION:
CATEGORIES:Studies and international affairs,Beginning students,Studies and
  international affairs,Emil-Figge-Straße Campus
END:VEVENT
END:VCALENDAR
