BEGIN:VCALENDAR
PRODID:-//sitepark/sitekit//3.0/EN
VERSION:2.0
CALSCALE:GREGORIAN
BEGIN:VEVENT
UID:170577/2026-04-22
DTSTAMP:20260421T140812Z
SUMMARY:Ich bin neu an der Hochschule – und nun?
DESCRIPTION:
URL:https://www.fh-dortmund.de/termine/ich-bin-neu-an-der-hochschule-und-nu
 n-sose26.php?sp:startDateKey=2026-04-22
DTSTART;TZID=Europe/Berlin:20260422T140000
DTEND;TZID=Europe/Berlin:20260422T150000
LOCATION:
CATEGORIES:Studium und Internationales,Studienbeginnende,Studium und Intern
 ationales,Campus Emil-Figge-Straße
END:VEVENT
END:VCALENDAR
