BEGIN:VCALENDAR
PRODID:-//sitepark/sitekit//3.0/EN
VERSION:2.0
CALSCALE:GREGORIAN
BEGIN:VEVENT
UID:197124/2026-04-21
DTSTAMP:20260421T104700Z
SUMMARY:Fit für ILIAS Sommersemester 2026
DESCRIPTION:
URL:https://www.fh-dortmund.de/termine/fit-fuer-ilias-sommersemester-2026.p
 hp?sp:startDateKey=2026-04-21
DTSTART;TZID=Europe/Berlin:20260421T110000
DTEND;TZID=Europe/Berlin:20260421T120000
LOCATION:
CATEGORIES:Bibliothek,Studium und Internationales,Studienbeginnende,Bibliot
 hek
END:VEVENT
END:VCALENDAR
