BEGIN:VCALENDAR
PRODID:-//sitepark/sitekit//3.0/EN
VERSION:2.0
CALSCALE:GREGORIAN
BEGIN:VEVENT
UID:194865/2026-03-14
DTSTAMP:20260421T104607Z
SUMMARY:Stuzubi Dortmund – Die Messe rund ums Studium und Ausbildung
DESCRIPTION:
URL:https://www.fh-dortmund.de/termine/fh-dortmund-auf-der-stuzubi-messe.ph
 p?sp:startDateKey=2026-03-14
DTSTART;TZID=Europe/Berlin:20260314T100000
DTEND;TZID=Europe/Berlin:20260314T160000
LOCATION:
CATEGORIES:Angewandte Sozialwissenschaften,Architektur,Design,Informatik,In
 formationstechnik,Maschinenbau,Studium und Internationales,Wirtschaft,Star
 tseite,Studieninteressierte
END:VEVENT
END:VCALENDAR
